BEGIN:VCALENDAR
VERSION:2.0
PRODID:-//wp-events-plugin.com//7.0.5//EN
BEGIN:VEVENT
UID:275@eoargentina.org
DTSTART;VALUE=DATE:20260606
DTEND;VALUE=DATE:20260607
DTSTAMP:20250827T150402Z
URL:https://eoargentina.org/events/alan-karpovsky/
SUMMARY:Alan Karpovsky
DESCRIPTION:
CATEGORIES:Cumpleaños
END:VEVENT
END:VCALENDAR