BEGIN:VCALENDAR
VERSION:2.0
PRODID:-//wp-events-plugin.com//7.0.5//EN
BEGIN:VEVENT
UID:308@eoargentina.org
DTSTART;VALUE=DATE:20260330
DTEND;VALUE=DATE:20260331
DTSTAMP:20251020T154444Z
URL:https://eoargentina.org/events/alan-soria/
SUMMARY:Alan Soria
DESCRIPTION:
CATEGORIES:Cumpleaños
END:VEVENT
END:VCALENDAR