BEGIN:VCALENDAR
VERSION:2.0
PRODID:-//wp-events-plugin.com//7.0.5//EN
BEGIN:VEVENT
UID:295@eoargentina.org
DTSTART;VALUE=DATE:20260726
DTEND;VALUE=DATE:20260727
DTSTAMP:20250827T151517Z
URL:https://eoargentina.org/events/alan-szpigiel/
SUMMARY:Alan Szpigiel
DESCRIPTION:
CATEGORIES:Cumpleaños
END:VEVENT
END:VCALENDAR