BEGIN:VCALENDAR
VERSION:2.0
PRODID:-//wp-events-plugin.com//7.0.5//EN
BEGIN:VEVENT
UID:285@eoargentina.org
DTSTART;VALUE=DATE:20260630
DTEND;VALUE=DATE:20260701
DTSTAMP:20250827T150954Z
URL:https://eoargentina.org/events/alex-sakkal/
SUMMARY:Alex Sakkal
DESCRIPTION:
CATEGORIES:Cumpleaños
END:VEVENT
END:VCALENDAR