BEGIN:VCALENDAR
VERSION:2.0
PRODID:-//wp-events-plugin.com//7.0.5//EN
BEGIN:VEVENT
UID:289@eoargentina.org
DTSTART;VALUE=DATE:20260714
DTEND;VALUE=DATE:20260715
DTSTAMP:20250827T151203Z
URL:https://eoargentina.org/events/andres-schapira/
SUMMARY:Andres Schapira
DESCRIPTION:
CATEGORIES:Cumpleaños
END:VEVENT
END:VCALENDAR