BEGIN:VCALENDAR
VERSION:2.0
PRODID:-//wp-events-plugin.com//7.0.5//EN
BEGIN:VEVENT
UID:16@eoargentina.org
DTSTART:20240703T000000Z
DTEND:20240703T000000Z
DTSTAMP:20240827T225509Z
URL:https://eoargentina.org/events/cumpleanos-alvarez-rodrigo-2/
SUMMARY:Cumpleaños Alvarez\, Rodrigo
DESCRIPTION:
CATEGORIES:Cumpleaños
END:VEVENT
END:VCALENDAR