BEGIN:VCALENDAR
VERSION:2.0
PRODID:-//wp-events-plugin.com//7.0.5//EN
BEGIN:VEVENT
UID:54@eoargentina.org
DTSTART:20240702T000000Z
DTEND:20240702T000000Z
DTSTAMP:20240827T234057Z
URL:https://eoargentina.org/events/cumpleanos-goilenberg-javier/
SUMMARY:Cumpleaños Goilenberg\, Javier
DESCRIPTION:
CATEGORIES:Cumpleaños
END:VEVENT
END:VCALENDAR