BEGIN:VCALENDAR
VERSION:2.0
PRODID:-//wp-events-plugin.com//7.0.5//EN
BEGIN:VEVENT
UID:290@eoargentina.org
DTSTART;VALUE=DATE:20260717
DTEND;VALUE=DATE:20260718
DTSTAMP:20250827T151234Z
URL:https://eoargentina.org/events/daniel-sanchez/
SUMMARY:Daniel Sánchez
DESCRIPTION:
CATEGORIES:Cumpleaños
END:VEVENT
END:VCALENDAR