BEGIN:VCALENDAR
VERSION:2.0
PRODID:-//wp-events-plugin.com//7.0.5//EN
BEGIN:VEVENT
UID:328@eoargentina.org
DTSTART;VALUE=DATE:20260514
DTEND;VALUE=DATE:20260515
DTSTAMP:20260318T144811Z
URL:https://eoargentina.org/events/dario-leibovic/
SUMMARY:Dario Leibovic
DESCRIPTION:
CATEGORIES:Cumpleaños
END:VEVENT
END:VCALENDAR