BEGIN:VCALENDAR
VERSION:2.0
PRODID:-//wp-events-plugin.com//7.0.5//EN
BEGIN:VEVENT
UID:158@eoargentina.org
DTSTART:20250217T190000Z
DTEND:20250217T230000Z
DTSTAMP:20250207T205401Z
URL:https://eoargentina.org/events/eo-after-office-engagement-2/
SUMMARY:EO After Office - Engagement
DESCRIPTION:
CATEGORIES:Engagement
LOCATION:Casa Juan Manuel Barrero\, Libertador 2778\, Ciudad Autónoma de B
 uenos Aires\, Argentina
X-APPLE-STRUCTURED-LOCATION;VALUE=URI;X-ADDRESS=Libertador 2778\, Ciudad Au
 tónoma de Buenos Aires\, Argentina;X-APPLE-RADIUS=100;X-TITLE=Casa Juan M
 anuel Barrero:geo:0,0
END:VEVENT
END:VCALENDAR