BEGIN:VCALENDAR
VERSION:2.0
PRODID:-//wp-events-plugin.com//7.0.5//EN
BEGIN:VEVENT
UID:269@eoargentina.org
DTSTART;VALUE=DATE:20260512
DTEND;VALUE=DATE:20260513
DTSTAMP:20250827T145941Z
URL:https://eoargentina.org/events/facundo-belocopitt/
SUMMARY:Facundo Belocopitt
DESCRIPTION:
CATEGORIES:Cumpleaños
END:VEVENT
END:VCALENDAR