BEGIN:VCALENDAR
VERSION:2.0
PRODID:-//wp-events-plugin.com//7.0.5//EN
BEGIN:VEVENT
UID:268@eoargentina.org
DTSTART;VALUE=DATE:20260511
DTEND;VALUE=DATE:20260512
DTSTAMP:20250827T145859Z
URL:https://eoargentina.org/events/francisco-di-paola/
SUMMARY:Francisco Di Paola
DESCRIPTION:
CATEGORIES:Cumpleaños
END:VEVENT
END:VCALENDAR