BEGIN:VCALENDAR
VERSION:2.0
PRODID:-//wp-events-plugin.com//7.0.5//EN
BEGIN:VEVENT
UID:272@eoargentina.org
DTSTART;VALUE=DATE:20260530
DTEND;VALUE=DATE:20260531
DTSTAMP:20250827T150130Z
URL:https://eoargentina.org/events/francisco-martin/
SUMMARY:Francisco Martin
DESCRIPTION:
CATEGORIES:Cumpleaños
END:VEVENT
END:VCALENDAR