BEGIN:VCALENDAR
VERSION:2.0
PRODID:-//wp-events-plugin.com//7.0.5//EN
BEGIN:VEVENT
UID:292@eoargentina.org
DTSTART;VALUE=DATE:20260719
DTEND;VALUE=DATE:20260720
DTSTAMP:20250827T151335Z
URL:https://eoargentina.org/events/gabriela-thierer/
SUMMARY:Gabriela Thierer
DESCRIPTION:
CATEGORIES:Cumpleaños
END:VEVENT
END:VCALENDAR