BEGIN:VCALENDAR
VERSION:2.0
PRODID:-//wp-events-plugin.com//7.0.5//EN
BEGIN:VEVENT
UID:261@eoargentina.org
DTSTART;VALUE=DATE:20260423
DTEND;VALUE=DATE:20260424
DTSTAMP:20250827T145020Z
URL:https://eoargentina.org/events/gonzalez-aleman-guillermo/
SUMMARY:González Alemán \, Guillermo
DESCRIPTION:
CATEGORIES:Cumpleaños
END:VEVENT
END:VCALENDAR