BEGIN:VCALENDAR
VERSION:2.0
PRODID:-//wp-events-plugin.com//7.0.5//EN
BEGIN:VEVENT
UID:276@eoargentina.org
DTSTART;VALUE=DATE:20260610
DTEND;VALUE=DATE:20260611
DTSTAMP:20250827T150439Z
URL:https://eoargentina.org/events/helga-yasci/
SUMMARY:Helga Yasci
DESCRIPTION:
CATEGORIES:Cumpleaños
END:VEVENT
END:VCALENDAR