BEGIN:VCALENDAR
VERSION:2.0
PRODID:-//wp-events-plugin.com//7.0.5//EN
BEGIN:VEVENT
UID:284@eoargentina.org
DTSTART;VALUE=DATE:20260629
DTEND;VALUE=DATE:20260630
DTSTAMP:20250827T150919Z
URL:https://eoargentina.org/events/hipolito-gimenez/
SUMMARY:Hipólito Giménez
DESCRIPTION:
CATEGORIES:Cumpleaños
END:VEVENT
END:VCALENDAR