BEGIN:VCALENDAR
VERSION:2.0
PRODID:-//wp-events-plugin.com//7.0.5//EN
BEGIN:VEVENT
UID:273@eoargentina.org
DTSTART;VALUE=DATE:20260531
DTEND;VALUE=DATE:20260601
DTSTAMP:20250827T150156Z
URL:https://eoargentina.org/events/ivo-teler/
SUMMARY:Ivo Teler
DESCRIPTION:
CATEGORIES:Cumpleaños
END:VEVENT
END:VCALENDAR