BEGIN:VCALENDAR
VERSION:2.0
PRODID:-//wp-events-plugin.com//7.0.5//EN
BEGIN:VEVENT
UID:263@eoargentina.org
DTSTART;VALUE=DATE:20260429
DTEND;VALUE=DATE:20260430
DTSTAMP:20250827T145210Z
URL:https://eoargentina.org/events/joaquin-pietroboni/
SUMMARY:Joaquin Pietroboni
DESCRIPTION:
CATEGORIES:Cumpleaños
END:VEVENT
END:VCALENDAR