BEGIN:VCALENDAR
VERSION:2.0
PRODID:-//wp-events-plugin.com//7.0.5//EN
BEGIN:VEVENT
UID:267@eoargentina.org
DTSTART;VALUE=DATE:20260511
DTEND;VALUE=DATE:20260512
DTSTAMP:20250827T145815Z
URL:https://eoargentina.org/events/juan-cabanelas/
SUMMARY:Juan Cabanelas
DESCRIPTION:
CATEGORIES:Cumpleaños
END:VEVENT
END:VCALENDAR