BEGIN:VCALENDAR
VERSION:2.0
PRODID:-//wp-events-plugin.com//7.0.5//EN
BEGIN:VEVENT
UID:262@eoargentina.org
DTSTART;VALUE=DATE:20260428
DTEND;VALUE=DATE:20260429
DTSTAMP:20250827T145059Z
URL:https://eoargentina.org/events/lucas-lopatin/
SUMMARY:Lucas Lopatin
DESCRIPTION:
CATEGORIES:Cumpleaños
END:VEVENT
END:VCALENDAR