BEGIN:VCALENDAR
VERSION:2.0
PRODID:-//wp-events-plugin.com//7.0.5//EN
BEGIN:VEVENT
UID:279@eoargentina.org
DTSTART;VALUE=DATE:20260619
DTEND;VALUE=DATE:20260620
DTSTAMP:20250827T150638Z
URL:https://eoargentina.org/events/marcos-pueyrredon/
SUMMARY:Marcos Pueyrredon
DESCRIPTION:
CATEGORIES:Cumpleaños
END:VEVENT
END:VCALENDAR