BEGIN:VCALENDAR
VERSION:2.0
PRODID:-//wp-events-plugin.com//7.0.5//EN
BEGIN:VEVENT
UID:265@eoargentina.org
DTSTART;VALUE=DATE:20260508
DTEND;VALUE=DATE:20260509
DTSTAMP:20250827T145620Z
URL:https://eoargentina.org/events/martin-nisenbaum/
SUMMARY:Martín Nisenbaum
DESCRIPTION:
CATEGORIES:Cumpleaños
END:VEVENT
END:VCALENDAR