BEGIN:VCALENDAR
VERSION:2.0
PRODID:-//wp-events-plugin.com//7.0.5//EN
BEGIN:VEVENT
UID:277@eoargentina.org
DTSTART;VALUE=DATE:20260612
DTEND;VALUE=DATE:20260613
DTSTAMP:20250827T150531Z
URL:https://eoargentina.org/events/mercedes-blanco-martinelli/
SUMMARY:Mercedes Blanco Martinelli
DESCRIPTION:
CATEGORIES:Cumpleaños
END:VEVENT
END:VCALENDAR