BEGIN:VCALENDAR
VERSION:2.0
PRODID:-//wp-events-plugin.com//7.0.5//EN
BEGIN:VEVENT
UID:314@eoargentina.org
DTSTART;VALUE=DATE:20261014
DTEND;VALUE=DATE:20261015
DTSTAMP:20251113T125256Z
URL:https://eoargentina.org/events/nicolas-botbol/
SUMMARY:Nicolas Botbol
DESCRIPTION:
CATEGORIES:Cumpleaños
END:VEVENT
END:VCALENDAR