BEGIN:VCALENDAR
VERSION:2.0
PRODID:-//wp-events-plugin.com//7.0.5//EN
BEGIN:VEVENT
UID:266@eoargentina.org
DTSTART;VALUE=DATE:20260509
DTEND;VALUE=DATE:20260510
DTSTAMP:20250827T145743Z
URL:https://eoargentina.org/events/patricia-iraola/
SUMMARY:Patricia Iraola
DESCRIPTION:
CATEGORIES:Cumpleaños
END:VEVENT
END:VCALENDAR