BEGIN:VCALENDAR
VERSION:2.0
PRODID:-//wp-events-plugin.com//7.0.5//EN
BEGIN:VEVENT
UID:282@eoargentina.org
DTSTART;VALUE=DATE:20260625
DTEND;VALUE=DATE:20260626
DTSTAMP:20250827T150803Z
URL:https://eoargentina.org/events/patricio-molina/
SUMMARY:Patricio Molina
DESCRIPTION:
CATEGORIES:Cumpleaños
END:VEVENT
END:VCALENDAR