BEGIN:VCALENDAR
VERSION:2.0
PRODID:-//wp-events-plugin.com//7.0.5//EN
BEGIN:VEVENT
UID:287@eoargentina.org
DTSTART;VALUE=DATE:20260703
DTEND;VALUE=DATE:20260704
DTSTAMP:20250827T151105Z
URL:https://eoargentina.org/events/rodrigo-alvarez/
SUMMARY:Rodrigo Alvarez
DESCRIPTION:
CATEGORIES:Cumpleaños
END:VEVENT
END:VCALENDAR