BEGIN:VCALENDAR
VERSION:2.0
PRODID:-//wp-events-plugin.com//7.0.5//EN
BEGIN:VEVENT
UID:324@eoargentina.org
DTSTART:20260226T170000Z
DTEND:20260226T220000Z
DTSTAMP:20260218T181930Z
URL:https://eoargentina.org/events/salida-a-navegar/
SUMMARY:Salida a Navegar
DESCRIPTION:
CATEGORIES:Engagement
END:VEVENT
END:VCALENDAR