BEGIN:VCALENDAR
VERSION:2.0
PRODID:-//wp-events-plugin.com//7.0.5//EN
BEGIN:VEVENT
UID:264@eoargentina.org
DTSTART;VALUE=DATE:20260506
DTEND;VALUE=DATE:20260507
DTSTAMP:20250827T145529Z
URL:https://eoargentina.org/events/santiago-capurro/
SUMMARY:Santiago Capurro
DESCRIPTION:
CATEGORIES:Cumpleaños
END:VEVENT
END:VCALENDAR