BEGIN:VCALENDAR
VERSION:2.0
PRODID:-//wp-events-plugin.com//7.0.5//EN
BEGIN:VEVENT
UID:271@eoargentina.org
DTSTART;VALUE=DATE:20260523
DTEND;VALUE=DATE:20260524
DTSTAMP:20250827T150051Z
URL:https://eoargentina.org/events/sebastian-judzik/
SUMMARY:Sebastian Judzik
DESCRIPTION:
CATEGORIES:Cumpleaños
END:VEVENT
END:VCALENDAR